BEGIN:VCALENDAR
VERSION:2.0
PRODID:-//Christ Lutheran Church - ECPv6.15.20//NONSGML v1.0//EN
CALSCALE:GREGORIAN
METHOD:PUBLISH
X-ORIGINAL-URL:https://christlutheransg.org
X-WR-CALDESC:Events for Christ Lutheran Church
REFRESH-INTERVAL;VALUE=DURATION:PT1H
X-Robots-Tag:noindex
X-PUBLISHED-TTL:PT1H
BEGIN:VTIMEZONE
TZID:America/Chicago
BEGIN:DAYLIGHT
TZOFFSETFROM:-0600
TZOFFSETTO:-0500
TZNAME:CDT
DTSTART:20240310T080000
END:DAYLIGHT
BEGIN:STANDARD
TZOFFSETFROM:-0500
TZOFFSETTO:-0600
TZNAME:CST
DTSTART:20241103T070000
END:STANDARD
BEGIN:DAYLIGHT
TZOFFSETFROM:-0600
TZOFFSETTO:-0500
TZNAME:CDT
DTSTART:20250309T080000
END:DAYLIGHT
BEGIN:STANDARD
TZOFFSETFROM:-0500
TZOFFSETTO:-0600
TZNAME:CST
DTSTART:20251102T070000
END:STANDARD
BEGIN:DAYLIGHT
TZOFFSETFROM:-0600
TZOFFSETTO:-0500
TZNAME:CDT
DTSTART:20260308T080000
END:DAYLIGHT
BEGIN:STANDARD
TZOFFSETFROM:-0500
TZOFFSETTO:-0600
TZNAME:CST
DTSTART:20261101T070000
END:STANDARD
BEGIN:DAYLIGHT
TZOFFSETFROM:-0600
TZOFFSETTO:-0500
TZNAME:CDT
DTSTART:20270314T080000
END:DAYLIGHT
BEGIN:STANDARD
TZOFFSETFROM:-0500
TZOFFSETTO:-0600
TZNAME:CST
DTSTART:20271107T070000
END:STANDARD
END:VTIMEZONE
BEGIN:VTIMEZONE
TZID:America/New_York
BEGIN:DAYLIGHT
TZOFFSETFROM:-0500
TZOFFSETTO:-0400
TZNAME:EDT
DTSTART:20230312T070000
END:DAYLIGHT
BEGIN:STANDARD
TZOFFSETFROM:-0400
TZOFFSETTO:-0500
TZNAME:EST
DTSTART:20231105T060000
END:STANDARD
BEGIN:DAYLIGHT
TZOFFSETFROM:-0500
TZOFFSETTO:-0400
TZNAME:EDT
DTSTART:20240310T070000
END:DAYLIGHT
BEGIN:STANDARD
TZOFFSETFROM:-0400
TZOFFSETTO:-0500
TZNAME:EST
DTSTART:20241103T060000
END:STANDARD
BEGIN:DAYLIGHT
TZOFFSETFROM:-0500
TZOFFSETTO:-0400
TZNAME:EDT
DTSTART:20250309T070000
END:DAYLIGHT
BEGIN:STANDARD
TZOFFSETFROM:-0400
TZOFFSETTO:-0500
TZNAME:EST
DTSTART:20251102T060000
END:STANDARD
END:VTIMEZONE
BEGIN:VEVENT
DTSTART;TZID=America/Chicago:20260304T170000
DTEND;TZID=America/Chicago:20260304T193000
DTSTAMP:20260419T222115
CREATED:20260208T174832Z
LAST-MODIFIED:20260208T174832Z
UID:16802-1772643600-1772652600@christlutheransg.org
SUMMARY:Wednesday Night Youth & Family Ministry at CLC!
DESCRIPTION:Experience Wednesday night youth and family ministry at CLC. \nCommunity meal 5pm-6pm \nAll are welcome! \nROCK & Confirmation 6pm-7:30pm \nHigh School Youth Group 6pm-7:30 \nThe Wednesday schedule follows the River Valley School District calendar\, including vacations and weather-related cancellations.
URL:https://christlutheransg.org/event/wednesday-night-youth-family-ministry-at-clc-5/
LOCATION:Christ Lutheran Church\, 237 Daley St.\, Spring Green\, WI\, 53588
CATEGORIES:ROCK
END:VEVENT
BEGIN:VEVENT
DTSTART;TZID=America/Chicago:20260225T190000
DTEND;TZID=America/Chicago:20260225T200000
DTSTAMP:20260419T222115
CREATED:20260208T181744Z
LAST-MODIFIED:20260208T181744Z
UID:16805-1772046000-1772049600@christlutheransg.org
SUMMARY:Lenten Worship (Week 1)
DESCRIPTION:Join Christ Lutheran Church for Lenten Worship following our Wednesday evening Community Meal and Youth & Family Ministry.
URL:https://christlutheransg.org/event/lenten-worship-week-1/
END:VEVENT
BEGIN:VEVENT
DTSTART;TZID=America/Chicago:20260225T170000
DTEND;TZID=America/Chicago:20260225T193000
DTSTAMP:20260419T222115
CREATED:20260208T174351Z
LAST-MODIFIED:20260208T174351Z
UID:16798-1772038800-1772047800@christlutheransg.org
SUMMARY:Wednesday Night Youth & Family Ministry at CLC!
DESCRIPTION:Experience Wednesday night youth and family ministry at CLC. \nCommunity meal 5pm-6pm \nAll are welcome! \nROCK & Confirmation 6pm-7:30pm \nHigh School Youth Group 6pm-7:30 \nThe Wednesday schedule follows the River Valley School District calendar\, including vacations and weather-related cancellations.
URL:https://christlutheransg.org/event/wednesday-night-youth-family-ministry-at-clc-4/
LOCATION:Christ Lutheran Church\, 237 Daley St.\, Spring Green\, WI\, 53588
CATEGORIES:ROCK
END:VEVENT
BEGIN:VEVENT
DTSTART;TZID=America/Chicago:20260218T190000
DTEND;TZID=America/Chicago:20260218T200000
DTSTAMP:20260419T222115
CREATED:20260208T174733Z
LAST-MODIFIED:20260208T174733Z
UID:16800-1771441200-1771444800@christlutheransg.org
SUMMARY:Ash Wednesday Service
DESCRIPTION:Join Christ Lutheran Church for Ash Wednesday service following our Wednesday evening Community Meal and Youth & Family Ministry.
URL:https://christlutheransg.org/event/ash-wednesday-service/
END:VEVENT
BEGIN:VEVENT
DTSTART;TZID=America/Chicago:20260218T170000
DTEND;TZID=America/Chicago:20260218T193000
DTSTAMP:20260419T222115
CREATED:20260208T174215Z
LAST-MODIFIED:20260208T174215Z
UID:16796-1771434000-1771443000@christlutheransg.org
SUMMARY:Wednesday Night Youth & Family Ministry at CLC!
DESCRIPTION:Experience Wednesday night youth and family ministry at CLC. \nCommunity meal 5pm-6pm \nAll are welcome! \nROCK & Confirmation 6pm-7:30pm \nHigh School Youth Group 6pm-7:30 \nThe Wednesday schedule follows the River Valley School District calendar\, including vacations and weather-related cancellations.
URL:https://christlutheransg.org/event/wednesday-night-youth-family-ministry-at-clc-3/
LOCATION:Christ Lutheran Church\, 237 Daley St.\, Spring Green\, WI\, 53588
CATEGORIES:ROCK
END:VEVENT
BEGIN:VEVENT
DTSTART;TZID=America/Chicago:20260211T170000
DTEND;TZID=America/Chicago:20260211T193000
DTSTAMP:20260419T222115
CREATED:20260208T173614Z
LAST-MODIFIED:20260208T173518Z
UID:16793-1770829200-1770838200@christlutheransg.org
SUMMARY:Wednesday Night Youth & Family Ministry at CLC!
DESCRIPTION:Experience Wednesday night youth and family ministry at CLC. \nCommunity meal 5pm-6pm \nAll are welcome! \nROCK & Confirmation 6pm-7:30pm \nHigh School Youth Group 6pm-7:30 \nThe Wednesday schedule follows the River Valley School District calendar\, including vacations and weather-related cancellations.
URL:https://christlutheransg.org/event/wednesday-night-youth-family-ministry-at-clc-2/
LOCATION:Christ Lutheran Church\, 237 Daley St.\, Spring Green\, WI\, 53588
CATEGORIES:ROCK
END:VEVENT
BEGIN:VEVENT
DTSTART;TZID=America/Chicago:20260107T170000
DTEND;TZID=America/Chicago:20260107T180000
DTSTAMP:20260419T222115
CREATED:20251220T183349Z
LAST-MODIFIED:20251220T183349Z
UID:16786-1767805200-1767808800@christlutheransg.org
SUMMARY:Wednesday Night Youth & Family Ministry at CLC!
DESCRIPTION:Experience Wednesday night youth and family ministry at CLC. \nCommunity meal 5pm-6pm \nAll are welcome! \nROCK & Confirmation 6pm-7:30pm \nHigh School Youth Group 6pm-7:30 \n\nThe Wednesday schedule follows the River Valley School District calendar\, including vacations and weather-related cancellations.
URL:https://christlutheransg.org/event/wednesday-night-youth-family-ministry-at-clc/
LOCATION:Christ Lutheran Church\, 237 Daley St.\, Spring Green\, WI\, 53588
CATEGORIES:ROCK
END:VEVENT
BEGIN:VEVENT
DTSTART;TZID=America/Chicago:20251224T170000
DTEND;TZID=America/Chicago:20251224T180000
DTSTAMP:20260419T222116
CREATED:20251220T181206Z
LAST-MODIFIED:20251220T181206Z
UID:16783-1766595600-1766599200@christlutheransg.org
SUMMARY:Christmas Eve Candlelight Service
DESCRIPTION:Join Christ Lutheran Church for a Christmas Eve Candleight Service. 5pm on December 24th.
URL:https://christlutheransg.org/event/christmas-eve-candlelight-service/
LOCATION:Christ Lutheran Church\, 237 Daley St.\, Spring Green\, WI\, 53588
END:VEVENT
BEGIN:VEVENT
DTSTART;TZID=America/Chicago:20250601T100000
DTEND;TZID=America/Chicago:20250601T130000
DTSTAMP:20260419T222116
CREATED:20250523T192256Z
LAST-MODIFIED:20250523T192256Z
UID:16772-1748772000-1748782800@christlutheransg.org
SUMMARY:Gathering in the Garden
DESCRIPTION:Christ Lutheran Church invites you to a Gathering in the Garden! \nSunday\, June 1\, 2025 \nPost House Garden in Spring Green \nWorship at 10 \nLunch\, Beverages and Music 11am-1pm \nMusic from Solstice Jazz Ensemble \nAll are welcome!
URL:https://christlutheransg.org/event/gathering-in-the-garden/
LOCATION:Post House Garden Park\, Downtown Spring Green on Jefferson Street\, SPRING GREEN\, WI\, 53588\, United States
END:VEVENT
BEGIN:VEVENT
DTSTART;TZID=America/Chicago:20250510T073000
DTEND;TZID=America/Chicago:20250510T120000
DTSTAMP:20260419T222116
CREATED:20250427T145022Z
LAST-MODIFIED:20250427T145022Z
UID:16765-1746862200-1746878400@christlutheransg.org
SUMMARY:CLC Rummage Sale!
DESCRIPTION:Good quality items!\nFellowship Hall tables filled to overflowing!\nGreat prices and something for everyone!
URL:https://christlutheransg.org/event/clc-rummage-sale-2/
LOCATION:Christ Lutheran Church\, 237 Daley St.\, Spring Green\, WI\, 53588
END:VEVENT
BEGIN:VEVENT
DTSTART;TZID=America/Chicago:20250509T073000
DTEND;TZID=America/Chicago:20250509T143000
DTSTAMP:20260419T222116
CREATED:20250427T144709Z
LAST-MODIFIED:20250427T144709Z
UID:16761-1746775800-1746801000@christlutheransg.org
SUMMARY:CLC Rummage Sale!
DESCRIPTION:Good quality items!\nFellowship Hall tables filled to overflowing!\nGreat prices and something for everyone!
URL:https://christlutheransg.org/event/clc-rummage-sale/
LOCATION:Christ Lutheran Church\, 237 Daley St.\, Spring Green\, WI\, 53588
END:VEVENT
BEGIN:VEVENT
DTSTART;TZID=America/Chicago:20250508T073000
DTEND;TZID=America/Chicago:20250508T143000
DTSTAMP:20260419T222116
CREATED:20250427T145219Z
LAST-MODIFIED:20250427T145219Z
UID:16767-1746689400-1746714600@christlutheransg.org
SUMMARY:CLC Rummage Sale!
DESCRIPTION:Good quality items!\nFellowship Hall tables filled to overflowing!\nGreat prices and something for everyone!
URL:https://christlutheransg.org/event/clc-rummage-sale-3/
LOCATION:Christ Lutheran Church\, 237 Daley St.\, Spring Green\, WI\, 53588
END:VEVENT
BEGIN:VEVENT
DTSTART;TZID=America/Chicago:20250423T170000
DTEND;TZID=America/Chicago:20250423T193000
DTSTAMP:20260419T222116
CREATED:20250416T175327Z
LAST-MODIFIED:20250416T175327Z
UID:16752-1745427600-1745436600@christlutheransg.org
SUMMARY:Community Meal\, R.O.C.K. & Confirmation
DESCRIPTION:Wednesday evenings are Family Faith Night at CLC! \nWe start with a community meal from 5pm-6pm. All are welcome. R.O.C.K. and Confirmation are 6pm-7:30pm. \nR.O.C.K. (“Reaching Out to Christ’s Kids”) is CLC’s Youth Ministry. For kids pre-K through 4th grade. Kids will rotate weekly through a variety of age-appropriate Christian education topics. From popular bible stories to how to pray\, this is a ministry meant to engage children and plant a God-shaped seed in their hearts that will one day grow into a fountain of love for their neighbor. \nMiddle School and Confirmation ministries serve youth from 5th through 8th grade. On any given week kids might be engaged in a service project for their community\, learn more about Martin Luther\, or belly-laugh in group games.
URL:https://christlutheransg.org/event/community-meal-r-o-c-k-confirmation-3/
LOCATION:Christ Lutheran Church\, 237 Daley St.\, Spring Green\, WI\, 53588
CATEGORIES:ROCK
ATTACH;FMTTYPE=image/png:https://christlutheransg.org/wp-content/uploads/2024/10/rockconfirmation2.png
END:VEVENT
BEGIN:VEVENT
DTSTART;TZID=America/Chicago:20250420T100000
DTEND;TZID=America/Chicago:20250420T110000
DTSTAMP:20260419T222116
CREATED:20250416T174515Z
LAST-MODIFIED:20250416T174515Z
UID:16748-1745143200-1745146800@christlutheransg.org
SUMMARY:Holy Week: Easter Sunday Service
DESCRIPTION:Easter Sunday service\, including a performance of the Hallelujah Chorus lead by the Christ Lutheran Church choir. All are welcome!
URL:https://christlutheransg.org/event/holy-week-easter-sunday-service/
LOCATION:Christ Lutheran Church\, 237 Daley St.\, Spring Green\, WI\, 53588
CATEGORIES:Holy Week
END:VEVENT
BEGIN:VEVENT
DTSTART;TZID=America/Chicago:20250418T190000
DTEND;TZID=America/Chicago:20250418T200000
DTSTAMP:20260419T222116
CREATED:20250416T174243Z
LAST-MODIFIED:20250416T174243Z
UID:16746-1745002800-1745006400@christlutheransg.org
SUMMARY:Holy Week: Good Friday Service
DESCRIPTION:
URL:https://christlutheransg.org/event/holy-week-good-friday-service/
END:VEVENT
BEGIN:VEVENT
DTSTART;TZID=America/Chicago:20250417T190000
DTEND;TZID=America/Chicago:20250417T200000
DTSTAMP:20260419T222116
CREATED:20250416T174122Z
LAST-MODIFIED:20250416T174122Z
UID:16744-1744916400-1744920000@christlutheransg.org
SUMMARY:Holy Week: Maundy Thursday Service
DESCRIPTION:
URL:https://christlutheransg.org/event/holy-week-maundy-thursday-service/
LOCATION:Christ Lutheran Church\, 237 Daley St.\, Spring Green\, WI\, 53588
END:VEVENT
BEGIN:VEVENT
DTSTART;TZID=America/Chicago:20250212T170000
DTEND;TZID=America/Chicago:20250212T193000
DTSTAMP:20260419T222116
CREATED:20250211T210053Z
LAST-MODIFIED:20250211T214025Z
UID:16683-1739379600-1739388600@christlutheransg.org
SUMMARY:Community Meal\, R.O.C.K. & Confirmation
DESCRIPTION:Wednesday evenings are Family Faith Night at CLC! \nWe start with a community meal from 5pm-6pm. All are welcome. R.O.C.K. and Confirmation are 6pm-7:30pm. \nR.O.C.K. (“Reaching Out to Christ’s Kids”) is CLC’s Youth Ministry. For kids pre-K through 4th grade. Kids will rotate weekly through a variety of age-appropriate Christian education topics. From popular bible stories to how to pray\, this is a ministry meant to engage children and plant a God-shaped seed in their hearts that will one day grow into a fountain of love for their neighbor. \nMiddle School and Confirmation ministries serve youth from 5th through 8th grade. On any given week kids might be engaged in a service project for their community\, learn more about Martin Luther\, or belly-laugh in group games.
URL:https://christlutheransg.org/event/community-meal-r-o-c-k-confirmation-2/
LOCATION:Christ Lutheran Church\, 237 Daley St.\, Spring Green\, WI\, 53588
CATEGORIES:ROCK
ATTACH;FMTTYPE=image/png:https://christlutheransg.org/wp-content/uploads/2024/10/rockconfirmation2.png
END:VEVENT
BEGIN:VEVENT
DTSTART;TZID=America/New_York:20241009T170000
DTEND;TZID=America/New_York:20241009T193000
DTSTAMP:20260419T222116
CREATED:20241002T195831Z
LAST-MODIFIED:20241002T205358Z
UID:16657-1728493200-1728502200@christlutheransg.org
SUMMARY:Community Meal\, R.O.C.K. & Confirmation
DESCRIPTION:Wednesday evenings are Family Faith Night at CLC! \nWe start with a community meal from 5pm-6pm. All are welcome. R.O.C.K. and Confirmation are 6pm-7:30pm. \nR.O.C.K. (“Reaching Out to Christ’s Kids”) is CLC’s Youth Ministry. For kids pre-K through 4th grade. Kids will rotate weekly through a variety of age-appropriate Christian education topics. From popular bible stories to how to pray\, this is a ministry meant to engage children and plant a God-shaped seed in their hearts that will one day grow into a fountain of love for their neighbor. \nMiddle School and Confirmation ministries serve youth from 5th through 8th grade. On any given week kids might be engaged in a service project for their community\, learn more about Martin Luther\, or belly-laugh in group games.
URL:https://christlutheransg.org/event/community-meal-r-o-c-k-confirmation/
LOCATION:Christ Lutheran Church\, 237 Daley St.\, Spring Green\, WI\, 53588
CATEGORIES:ROCK
ATTACH;FMTTYPE=image/png:https://christlutheransg.org/wp-content/uploads/2024/10/rockconfirmation2.png
END:VEVENT
BEGIN:VEVENT
DTSTART;TZID=America/New_York:20241008T190000
DTEND;TZID=America/New_York:20241008T210000
DTSTAMP:20260419T222116
CREATED:20241002T203122Z
LAST-MODIFIED:20241002T205443Z
UID:16664-1728414000-1728421200@christlutheransg.org
SUMMARY:CLC Women's Circle Meeting
DESCRIPTION:All are welcome to join our meetings!  \nWe have a large group and always have a good time. We always have a short bible lesson\, take care of some business\, and enjoy social time with a dessert and beverage together. \nItems to bring for Passages this month are flashlights of all sizes. \nWe would love to have you join us! Please call if you would like more information. CLCW Chairperson\, Jamie Haas (574-2461)
URL:https://christlutheransg.org/event/clc-womens-circle-meeting/
LOCATION:Home of Irene Rapp\, 3387 WI-133 Trunk\, Avoca\, WI\, 53506
CATEGORIES:CLCW Circle
ATTACH;FMTTYPE=image/png:https://christlutheransg.org/wp-content/uploads/2023/12/CLC-Logo_Final.png
END:VEVENT
END:VCALENDAR